Workbook

Sheet הוצאות
A1: תאריך | B1: ספק | C1: מספר מסמך | D1: סוג מסמך | E1: קטגוריה | F1: סכום כולל | G1: מע״מ במסמך | H1: סכום לפני מע״מ | I1: מע״מ לקיזוז | J1: % מוכר במס הכנסה | K1: סכום מוכר | L1: מספר הקצאה | M1: בדיקה | N1: הערות
A2: 46295.875 | B2: שחר מערכות משרד בע״מ | C2: 30418 | D2: חשבונית מס | E2: ציוד משרדי | F2: 7434 | G2: 1134 | H2: =IF(F2="","",F2-N(G2)) | I2: =IF(OR(F2="",E2=""),"",IF(OR(D2="חשבונית מס",D2="חשבונית מס-קבלה"),N(G2)*IFERROR(VLOOKUP(E2,'שיעורי הכרה'!$A$2:$C$16,3,FALSE),1),0)) | J2: =IF(E2="","",IFERROR(VLOOKUP(E2,'שיעורי הכרה'!$A$2:$C$16,2,FALSE),1)) | K2: =IF(OR(H2="",J2=""),"",H2*J2) | L2: 1•••••••7 | M2: =IF(F2="","",IF(AND(OR(D2="חשבונית מס",D2="חשבונית מס-קבלה"),H2>5000,L2=""),"חסר מספר הקצאה",IF(AND(N(G2)>0,NOT(OR(D2="חשבונית מס",D2="חשבונית מס-קבלה"))),"המע״מ לא ניתן לקיזוז","")))
A3: 46297.875 | B3: קפה השדרה | C3: 2041 | D3: קבלה | E3: ארוחות ואירוח | F3: 92 | G3: 0 | H3: =IF(F3="","",F3-N(G3)) | I3: =IF(OR(F3="",E3=""),"",IF(OR(D3="חשבונית מס",D3="חשבונית מס-קבלה"),N(G3)*IFERROR(VLOOKUP(E3,'שיעורי הכרה'!$A$2:$C$16,3,FALSE),1),0)) | J3: =IF(E3="","",IFERROR(VLOOKUP(E3,'שיעורי הכרה'!$A$2:$C$16,2,FALSE),1)) | K3: =IF(OR(H3="",J3=""),"",H3*J3) | M3: =IF(F3="","",IF(AND(OR(D3="חשבונית מס",D3="חשבונית מס-קבלה"),H3>5000,L3=""),"חסר מספר הקצאה",IF(AND(N(G3)>0,NOT(OR(D3="חשבונית מס",D3="חשבונית מס-קבלה"))),"המע״מ לא ניתן לקיזוז","")))
A4: 46300.875 | B4: דלק הכרמל | C4: 88120 | D4: חשבונית מס-קבלה | E4: רכב | F4: 413 | G4: 63 | H4: =IF(F4="","",F4-N(G4)) | I4: =IF(OR(F4="",E4=""),"",IF(OR(D4="חשבונית מס",D4="חשבונית מס-קבלה"),N(G4)*IFERROR(VLOOKUP(E4,'שיעורי הכרה'!$A$2:$C$16,3,FALSE),1),0)) | J4: =IF(E4="","",IFERROR(VLOOKUP(E4,'שיעורי הכרה'!$A$2:$C$16,2,FALSE),1)) | K4: =IF(OR(H4="",J4=""),"",H4*J4) | M4: =IF(F4="","",IF(AND(OR(D4="חשבונית מס",D4="חשבונית מס-קבלה"),H4>5000,L4=""),"חסר מספר הקצאה",IF(AND(N(G4)>0,NOT(OR(D4="חשבונית מס",D4="חשבונית מס-קבלה"))),"המע״מ לא ניתן לקיזוז","")))
A5: 46301.875 | B5: אורן ייעוץ ארגוני | C5: 1187 | D5: חשבונית עסקה | E5: ייעוץ מקצועי (רו״ח, עו״ד) | F5: 11800 | G5: 1800 | H5: =IF(F5="","",F5-N(G5)) | I5: =IF(OR(F5="",E5=""),"",IF(OR(D5="חשבונית מס",D5="חשבונית מס-קבלה"),N(G5)*IFERROR(VLOOKUP(E5,'שיעורי הכרה'!$A$2:$C$16,3,FALSE),1),0)) | J5: =IF(E5="","",IFERROR(VLOOKUP(E5,'שיעורי הכרה'!$A$2:$C$16,2,FALSE),1)) | K5: =IF(OR(H5="",J5=""),"",H5*J5) | M5: =IF(F5="","",IF(AND(OR(D5="חשבונית מס",D5="חשבונית מס-קבלה"),H5>5000,L5=""),"חסר מספר הקצאה",IF(AND(N(G5)>0,NOT(OR(D5="חשבונית מס",D5="חשבונית מס-קבלה"))),"המע״מ לא ניתן לקיזוז","")))
A6: 46302.875 | B6: מאפיית בר-און בע״מ | C6: 7731 | D6: חשבונית מס | E6: אחר | F6: 6796.8 | G6: 1036.8 | H6: =IF(F6="","",F6-N(G6)) | I6: =IF(OR(F6="",E6=""),"",IF(OR(D6="חשבונית מס",D6="חשבונית מס-קבלה"),N(G6)*IFERROR(VLOOKUP(E6,'שיעורי הכרה'!$A$2:$C$16,3,FALSE),1),0)) | J6: =IF(E6="","",IFERROR(VLOOKUP(E6,'שיעורי הכרה'!$A$2:$C$16,2,FALSE),1)) | K6: =IF(OR(H6="",J6=""),"",H6*J6) | M6: =IF(F6="","",IF(AND(OR(D6="חשבונית מס",D6="חשבונית מס-קבלה"),H6>5000,L6=""),"חסר מספר הקצאה",IF(AND(N(G6)>0,NOT(OR(D6="חשבונית מס",D6="חשבונית מס-קבלה"))),"המע״מ לא ניתן לקיזוז","")))
H7: =IF(F7="","",F7-N(G7)) | I7: =IF(OR(F7="",E7=""),"",IF(OR(D7="חשבונית מס",D7="חשבונית מס-קבלה"),N(G7)*IFERROR(VLOOKUP(E7,'שיעורי הכרה'!$A$2:$C$16,3,FALSE),1),0)) | J7: =IF(E7="","",IFERROR(VLOOKUP(E7,'שיעורי הכרה'!$A$2:$C$16,2,FALSE),1)) | K7: =IF(OR(H7="",J7=""),"",H7*J7) | M7: =IF(F7="","",IF(AND(OR(D7="חשבונית מס",D7="חשבונית מס-קבלה"),H7>5000,L7=""),"חסר מספר הקצאה",IF(AND(N(G7)>0,NOT(OR(D7="חשבונית מס",D7="חשבונית מס-קבלה"))),"המע״מ לא ניתן לקיזוז","")))
H8: =IF(F8="","",F8-N(G8)) | I8: =IF(OR(F8="",E8=""),"",IF(OR(D8="חשבונית מס",D8="חשבונית מס-קבלה"),N(G8)*IFERROR(VLOOKUP(E8,'שיעורי הכרה'!$A$2:$C$16,3,FALSE),1),0)) | J8: =IF(E8="","",IFERROR(VLOOKUP(E8,'שיעורי הכרה'!$A$2:$C$16,2,FALSE),1)) | K8: =IF(OR(H8="",J8=""),"",H8*J8) | M8: =IF(F8="","",IF(AND(OR(D8="חשבונית מס",D8="חשבונית מס-קבלה"),H8>5000,L8=""),"חסר מספר הקצאה",IF(AND(N(G8)>0,NOT(OR(D8="חשבונית מס",D8="חשבונית מס-קבלה"))),"המע״מ לא ניתן לקיזוז","")))
H9: =IF(F9="","",F9-N(G9)) | I9: =IF(OR(F9="",E9=""),"",IF(OR(D9="חשבונית מס",D9="חשבונית מס-קבלה"),N(G9)*IFERROR(VLOOKUP(E9,'שיעורי הכרה'!$A$2:$C$16,3,FALSE),1),0)) | J9: =IF(E9="","",IFERROR(VLOOKUP(E9,'שיעורי הכרה'!$A$2:$C$16,2,FALSE),1)) | K9: =IF(OR(H9="",J9=""),"",H9*J9) | M9: =IF(F9="","",IF(AND(OR(D9="חשבונית מס",D9="חשבונית מס-קבלה"),H9>5000,L9=""),"חסר מספר הקצאה",IF(AND(N(G9)>0,NOT(OR(D9="חשבונית מס",D9="חשבונית מס-קבלה"))),"המע״מ לא ניתן לקיזוז","")))
H10: =IF(F10="","",F10-N(G10)) | I10: =IF(OR(F10="",E10=""),"",IF(OR(D10="חשבונית מס",D10="חשבונית מס-קבלה"),N(G10)*IFERROR(VLOOKUP(E10,'שיעורי הכרה'!$A$2:$C$16,3,FALSE),1),0)) | J10: =IF(E10="","",IFERROR(VLOOKUP(E10,'שיעורי הכרה'!$A$2:$C$16,2,FALSE),1)) | K10: =IF(OR(H10="",J10=""),"",H10*J10) | M10: =IF(F10="","",IF(AND(OR(D10="חשבונית מס",D10="חשבונית מס-קבלה"),H10>5000,L10=""),"חסר מספר הקצאה",IF(AND(N(G10)>0,NOT(OR(D10="חשבונית מס",D10="חשבונית מס-קבלה"))),"המע״מ לא ניתן לקיזוז","")))
H11: =IF(F11="","",F11-N(G11)) | I11: =IF(OR(F11="",E11=""),"",IF(OR(D11="חשבונית מס",D11="חשבונית מס-קבלה"),N(G11)*IFERROR(VLOOKUP(E11,'שיעורי הכרה'!$A$2:$C$16,3,FALSE),1),0)) | J11: =IF(E11="","",IFERROR(VLOOKUP(E11,'שיעורי הכרה'!$A$2:$C$16,2,FALSE),1)) | K11: =IF(OR(H11="",J11=""),"",H11*J11) | M11: =IF(F11="","",IF(AND(OR(D11="חשבונית מס",D11="חשבונית מס-קבלה"),H11>5000,L11=""),"חסר מספר הקצאה",IF(AND(N(G11)>0,NOT(OR(D11="חשבונית מס",D11="חשבונית מס-קבלה"))),"המע״מ לא ניתן לקיזוז","")))
H12: =IF(F12="","",F12-N(G12)) | I12: =IF(OR(F12="",E12=""),"",IF(OR(D12="חשבונית מס",D12="חשבונית מס-קבלה"),N(G12)*IFERROR(VLOOKUP(E12,'שיעורי הכרה'!$A$2:$C$16,3,FALSE),1),0)) | J12: =IF(E12="","",IFERROR(VLOOKUP(E12,'שיעורי הכרה'!$A$2:$C$16,2,FALSE),1)) | K12: =IF(OR(H12="",J12=""),"",H12*J12) | M12: =IF(F12="","",IF(AND(OR(D12="חשבונית מס",D12="חשבונית מס-קבלה"),H12>5000,L12=""),"חסר מספר הקצאה",IF(AND(N(G12)>0,NOT(OR(D12="חשבונית מס",D12="חשבונית מס-קבלה"))),"המע״מ לא ניתן לקיזוז","")))
H13: =IF(F13="","",F13-N(G13)) | I13: =IF(OR(F13="",E13=""),"",IF(OR(D13="חשבונית מס",D13="חשבונית מס-קבלה"),N(G13)*IFERROR(VLOOKUP(E13,'שיעורי הכרה'!$A$2:$C$16,3,FALSE),1),0)) | J13: =IF(E13="","",IFERROR(VLOOKUP(E13,'שיעורי הכרה'!$A$2:$C$16,2,FALSE),1)) | K13: =IF(OR(H13="",J13=""),"",H13*J13) | M13: =IF(F13="","",IF(AND(OR(D13="חשבונית מס",D13="חשבונית מס-קבלה"),H13>5000,L13=""),"חסר מספר הקצאה",IF(AND(N(G13)>0,NOT(OR(D13="חשבונית מס",D13="חשבונית מס-קבלה"))),"המע״מ לא ניתן לקיזוז","")))
H14: =IF(F14="","",F14-N(G14)) | I14: =IF(OR(F14="",E14=""),"",IF(OR(D14="חשבונית מס",D14="חשבונית מס-קבלה"),N(G14)*IFERROR(VLOOKUP(E14,'שיעורי הכרה'!$A$2:$C$16,3,FALSE),1),0)) | J14: =IF(E14="","",IFERROR(VLOOKUP(E14,'שיעורי הכרה'!$A$2:$C$16,2,FALSE),1)) | K14: =IF(OR(H14="",J14=""),"",H14*J14) | M14: =IF(F14="","",IF(AND(OR(D14="חשבונית מס",D14="חשבונית מס-קבלה"),H14>5000,L14=""),"חסר מספר הקצאה",IF(AND(N(G14)>0,NOT(OR(D14="חשבונית מס",D14="חשבונית מס-קבלה"))),"המע״מ לא ניתן לקיזוז","")))
H15: =IF(F15="","",F15-N(G15)) | I15: =IF(OR(F15="",E15=""),"",IF(OR(D15="חשבונית מס",D15="חשבונית מס-קבלה"),N(G15)*IFERROR(VLOOKUP(E15,'שיעורי הכרה'!$A$2:$C$16,3,FALSE),1),0)) | J15: =IF(E15="","",IFERROR(VLOOKUP(E15,'שיעורי הכרה'!$A$2:$C$16,2,FALSE),1)) | K15: =IF(OR(H15="",J15=""),"",H15*J15) | M15: =IF(F15="","",IF(AND(OR(D15="חשבונית מס",D15="חשבונית מס-קבלה"),H15>5000,L15=""),"חסר מספר הקצאה",IF(AND(N(G15)>0,NOT(OR(D15="חשבונית מס",D15="חשבונית מס-קבלה"))),"המע״מ לא ניתן לקיזוז","")))
H16: =IF(F16="","",F16-N(G16)) | I16: =IF(OR(F16="",E16=""),"",IF(OR(D16="חשבונית מס",D16="חשבונית מס-קבלה"),N(G16)*IFERROR(VLOOKUP(E16,'שיעורי הכרה'!$A$2:$C$16,3,FALSE),1),0)) | J16: =IF(E16="","",IFERROR(VLOOKUP(E16,'שיעורי הכרה'!$A$2:$C$16,2,FALSE),1)) | K16: =IF(OR(H16="",J16=""),"",H16*J16) | M16: =IF(F16="","",IF(AND(OR(D16="חשבונית מס",D16="חשבונית מס-קבלה"),H16>5000,L16=""),"חסר מספר הקצאה",IF(AND(N(G16)>0,NOT(OR(D16="חשבונית מס",D16="חשבונית מס-קבלה"))),"המע״מ לא ניתן לקיזוז","")))
H17: =IF(F17="","",F17-N(G17)) | I17: =IF(OR(F17="",E17=""),"",IF(OR(D17="חשבונית מס",D17="חשבונית מס-קבלה"),N(G17)*IFERROR(VLOOKUP(E17,'שיעורי הכרה'!$A$2:$C$16,3,FALSE),1),0)) | J17: =IF(E17="","",IFERROR(VLOOKUP(E17,'שיעורי הכרה'!$A$2:$C$16,2,FALSE),1)) | K17: =IF(OR(H17="",J17=""),"",H17*J17) | M17: =IF(F17="","",IF(AND(OR(D17="חשבונית מס",D17="חשבונית מס-קבלה"),H17>5000,L17=""),"חסר מספר הקצאה",IF(AND(N(G17)>0,NOT(OR(D17="חשבונית מס",D17="חשבונית מס-קבלה"))),"המע״מ לא ניתן לקיזוז","")))
H18: =IF(F18="","",F18-N(G18)) | I18: =IF(OR(F18="",E18=""),"",IF(OR(D18="חשבונית מס",D18="חשבונית מס-קבלה"),N(G18)*IFERROR(VLOOKUP(E18,'שיעורי הכרה'!$A$2:$C$16,3,FALSE),1),0)) | J18: =IF(E18="","",IFERROR(VLOOKUP(E18,'שיעורי הכרה'!$A$2:$C$16,2,FALSE),1)) | K18: =IF(OR(H18="",J18=""),"",H18*J18) | M18: =IF(F18="","",IF(AND(OR(D18="חשבונית מס",D18="חשבונית מס-קבלה"),H18>5000,L18=""),"חסר מספר הקצאה",IF(AND(N(G18)>0,NOT(OR(D18="חשבונית מס",D18="חשבונית מס-קבלה"))),"המע״מ לא ניתן לקיזוז","")))
... H401: =IF(F401="","",F401-N(G401)) | I401: =IF(OR(F401="",E401=""),"",IF(OR(D401="חשבונית מס",D401="חשבונית מס-קבלה"),N(G401)*IFERROR(VLOOKUP(E401,'שיעורי הכרה'!$A$2:$C$16,3,FALSE),1),0)) | J401: =IF(E401="","",IFERROR(VLOOKUP(E401,'שיעורי הכרה'!$A$2:$C$16,2,FALSE),1)) | K401: =IF(OR(H401="",J401=""),"",H401*J401) | M401: =IF(F401="","",IF(AND(OR(D401="חשבונית מס",D401="חשבונית מס-קבלה"),H401>5000,L401=""),"חסר מספר הקצאה",IF(AND(N(G401)>0,NOT(OR(D401="חשבונית מס",D401="חשבונית מס-קבלה"))),"המע״מ לא ניתן לקיזוז","")))

Sheet הכנסות
A1: תאריך | B1: לקוח | C1: מספר מסמך | D1: סכום לפני מע״מ | E1: מע״מ עסקאות | F1: סה״כ | G1: הערות | H1: מע״מ 18% מחושב אוטומטית. עוסק פטור: מחקו את עמודת המע״מ.
A2: 46296.875 | B2: לקוח לדוגמה בע״מ | C2: 1001 | D2: 5000 | E2: =IF(D2="","",ROUND(D2*18%,2)) | F2: =IF(D2="","",D2+E2)
E3: =IF(D3="","",ROUND(D3*18%,2)) | F3: =IF(D3="","",D3+E3)
E4: =IF(D4="","",ROUND(D4*18%,2)) | F4: =IF(D4="","",D4+E4)
E5: =IF(D5="","",ROUND(D5*18%,2)) | F5: =IF(D5="","",D5+E5)
E6: =IF(D6="","",ROUND(D6*18%,2)) | F6: =IF(D6="","",D6+E6)
E7: =IF(D7="","",ROUND(D7*18%,2)) | F7: =IF(D7="","",D7+E7)
E8: =IF(D8="","",ROUND(D8*18%,2)) | F8: =IF(D8="","",D8+E8)
E9: =IF(D9="","",ROUND(D9*18%,2)) | F9: =IF(D9="","",D9+E9)
E10: =IF(D10="","",ROUND(D10*18%,2)) | F10: =IF(D10="","",D10+E10)
E11: =IF(D11="","",ROUND(D11*18%,2)) | F11: =IF(D11="","",D11+E11)
E12: =IF(D12="","",ROUND(D12*18%,2)) | F12: =IF(D12="","",D12+E12)
E13: =IF(D13="","",ROUND(D13*18%,2)) | F13: =IF(D13="","",D13+E13)
E14: =IF(D14="","",ROUND(D14*18%,2)) | F14: =IF(D14="","",D14+E14)
... E401: =IF(D401="","",ROUND(D401*18%,2)) | F401: =IF(D401="","",D401+E401)

Sheet סיכום חודשי
A1: שנה | B1: 2026 | C1: שנו את השנה והטבלה תתעדכן
A3: חודש | B3: הכנסות לפני מע״מ | C3: הוצאות לפני מע״מ | D3: רווח לפני מס | E3: מע״מ עסקאות | F3: מע״מ לקיזוז | G3: סכום מוכר במס הכנסה | H3: חסר מספר הקצאה
A4: ינואר | B4: =SUMIFS('הכנסות'!$D$2:$D$401,'הכנסות'!$A$2:$A$401,">="&DATE($B$1,1,1),'הכנסות'!$A$2:$A$401,"<"&DATE($B$1,2,1)) | C4: =SUMIFS('הוצאות'!$H$2:$H$401,'הוצאות'!$A$2:$A$401,">="&DATE($B$1,1,1),'הוצאות'!$A$2:$A$401,"<"&DATE($B$1,2,1)) | D4: =B4-C4 | E4: =SUMIFS('הכנסות'!$E$2:$E$401,'הכנסות'!$A$2:$A$401,">="&DATE($B$1,1,1),'הכנסות'!$A$2:$A$401,"<"&DATE($B$1,2,1)) | F4: =SUMIFS('הוצאות'!$I$2:$I$401,'הוצאות'!$A$2:$A$401,">="&DATE($B$1,1,1),'הוצאות'!$A$2:$A$401,"<"&DATE($B$1,2,1)) | G4: =SUMIFS('הוצאות'!$K$2:$K$401,'הוצאות'!$A$2:$A$401,">="&DATE($B$1,1,1),'הוצאות'!$A$2:$A$401,"<"&DATE($B$1,2,1)) | H4: =COUNTIFS('הוצאות'!$M$2:$M$401,"חסר מספר הקצאה",'הוצאות'!$A$2:$A$401,">="&DATE($B$1,1,1),'הוצאות'!$A$2:$A$401,"<"&DATE($B$1,2,1))
A5: פברואר | B5: =SUMIFS('הכנסות'!$D$2:$D$401,'הכנסות'!$A$2:$A$401,">="&DATE($B$1,2,1),'הכנסות'!$A$2:$A$401,"<"&DATE($B$1,3,1)) | C5: =SUMIFS('הוצאות'!$H$2:$H$401,'הוצאות'!$A$2:$A$401,">="&DATE($B$1,2,1),'הוצאות'!$A$2:$A$401,"<"&DATE($B$1,3,1)) | D5: =B5-C5 | E5: =SUMIFS('הכנסות'!$E$2:$E$401,'הכנסות'!$A$2:$A$401,">="&DATE($B$1,2,1),'הכנסות'!$A$2:$A$401,"<"&DATE($B$1,3,1)) | F5: =SUMIFS('הוצאות'!$I$2:$I$401,'הוצאות'!$A$2:$A$401,">="&DATE($B$1,2,1),'הוצאות'!$A$2:$A$401,"<"&DATE($B$1,3,1)) | G5: =SUMIFS('הוצאות'!$K$2:$K$401,'הוצאות'!$A$2:$A$401,">="&DATE($B$1,2,1),'הוצאות'!$A$2:$A$401,"<"&DATE($B$1,3,1)) | H5: =COUNTIFS('הוצאות'!$M$2:$M$401,"חסר מספר הקצאה",'הוצאות'!$A$2:$A$401,">="&DATE($B$1,2,1),'הוצאות'!$A$2:$A$401,"<"&DATE($B$1,3,1))
A6: מרץ | B6: =SUMIFS('הכנסות'!$D$2:$D$401,'הכנסות'!$A$2:$A$401,">="&DATE($B$1,3,1),'הכנסות'!$A$2:$A$401,"<"&DATE($B$1,4,1)) | C6: =SUMIFS('הוצאות'!$H$2:$H$401,'הוצאות'!$A$2:$A$401,">="&DATE($B$1,3,1),'הוצאות'!$A$2:$A$401,"<"&DATE($B$1,4,1)) | D6: =B6-C6 | E6: =SUMIFS('הכנסות'!$E$2:$E$401,'הכנסות'!$A$2:$A$401,">="&DATE($B$1,3,1),'הכנסות'!$A$2:$A$401,"<"&DATE($B$1,4,1)) | F6: =SUMIFS('הוצאות'!$I$2:$I$401,'הוצאות'!$A$2:$A$401,">="&DATE($B$1,3,1),'הוצאות'!$A$2:$A$401,"<"&DATE($B$1,4,1)) | G6: =SUMIFS('הוצאות'!$K$2:$K$401,'הוצאות'!$A$2:$A$401,">="&DATE($B$1,3,1),'הוצאות'!$A$2:$A$401,"<"&DATE($B$1,4,1)) | H6: =COUNTIFS('הוצאות'!$M$2:$M$401,"חסר מספר הקצאה",'הוצאות'!$A$2:$A$401,">="&DATE($B$1,3,1),'הוצאות'!$A$2:$A$401,"<"&DATE($B$1,4,1))
A7: אפריל | B7: =SUMIFS('הכנסות'!$D$2:$D$401,'הכנסות'!$A$2:$A$401,">="&DATE($B$1,4,1),'הכנסות'!$A$2:$A$401,"<"&DATE($B$1,5,1)) | C7: =SUMIFS('הוצאות'!$H$2:$H$401,'הוצאות'!$A$2:$A$401,">="&DATE($B$1,4,1),'הוצאות'!$A$2:$A$401,"<"&DATE($B$1,5,1)) | D7: =B7-C7 | E7: =SUMIFS('הכנסות'!$E$2:$E$401,'הכנסות'!$A$2:$A$401,">="&DATE($B$1,4,1),'הכנסות'!$A$2:$A$401,"<"&DATE($B$1,5,1)) | F7: =SUMIFS('הוצאות'!$I$2:$I$401,'הוצאות'!$A$2:$A$401,">="&DATE($B$1,4,1),'הוצאות'!$A$2:$A$401,"<"&DATE($B$1,5,1)) | G7: =SUMIFS('הוצאות'!$K$2:$K$401,'הוצאות'!$A$2:$A$401,">="&DATE($B$1,4,1),'הוצאות'!$A$2:$A$401,"<"&DATE($B$1,5,1)) | H7: =COUNTIFS('הוצאות'!$M$2:$M$401,"חסר מספר הקצאה",'הוצאות'!$A$2:$A$401,">="&DATE($B$1,4,1),'הוצאות'!$A$2:$A$401,"<"&DATE($B$1,5,1))
A8: מאי | B8: =SUMIFS('הכנסות'!$D$2:$D$401,'הכנסות'!$A$2:$A$401,">="&DATE($B$1,5,1),'הכנסות'!$A$2:$A$401,"<"&DATE($B$1,6,1)) | C8: =SUMIFS('הוצאות'!$H$2:$H$401,'הוצאות'!$A$2:$A$401,">="&DATE($B$1,5,1),'הוצאות'!$A$2:$A$401,"<"&DATE($B$1,6,1)) | D8: =B8-C8 | E8: =SUMIFS('הכנסות'!$E$2:$E$401,'הכנסות'!$A$2:$A$401,">="&DATE($B$1,5,1),'הכנסות'!$A$2:$A$401,"<"&DATE($B$1,6,1)) | F8: =SUMIFS('הוצאות'!$I$2:$I$401,'הוצאות'!$A$2:$A$401,">="&DATE($B$1,5,1),'הוצאות'!$A$2:$A$401,"<"&DATE($B$1,6,1)) | G8: =SUMIFS('הוצאות'!$K$2:$K$401,'הוצאות'!$A$2:$A$401,">="&DATE($B$1,5,1),'הוצאות'!$A$2:$A$401,"<"&DATE($B$1,6,1)) | H8: =COUNTIFS('הוצאות'!$M$2:$M$401,"חסר מספר הקצאה",'הוצאות'!$A$2:$A$401,">="&DATE($B$1,5,1),'הוצאות'!$A$2:$A$401,"<"&DATE($B$1,6,1))
A9: יוני | B9: =SUMIFS('הכנסות'!$D$2:$D$401,'הכנסות'!$A$2:$A$401,">="&DATE($B$1,6,1),'הכנסות'!$A$2:$A$401,"<"&DATE($B$1,7,1)) | C9: =SUMIFS('הוצאות'!$H$2:$H$401,'הוצאות'!$A$2:$A$401,">="&DATE($B$1,6,1),'הוצאות'!$A$2:$A$401,"<"&DATE($B$1,7,1)) | D9: =B9-C9 | E9: =SUMIFS('הכנסות'!$E$2:$E$401,'הכנסות'!$A$2:$A$401,">="&DATE($B$1,6,1),'הכנסות'!$A$2:$A$401,"<"&DATE($B$1,7,1)) | F9: =SUMIFS('הוצאות'!$I$2:$I$401,'הוצאות'!$A$2:$A$401,">="&DATE($B$1,6,1),'הוצאות'!$A$2:$A$401,"<"&DATE($B$1,7,1)) | G9: =SUMIFS('הוצאות'!$K$2:$K$401,'הוצאות'!$A$2:$A$401,">="&DATE($B$1,6,1),'הוצאות'!$A$2:$A$401,"<"&DATE($B$1,7,1)) | H9: =COUNTIFS('הוצאות'!$M$2:$M$401,"חסר מספר הקצאה",'הוצאות'!$A$2:$A$401,">="&DATE($B$1,6,1),'הוצאות'!$A$2:$A$401,"<"&DATE($B$1,7,1))
A10: יולי | B10: =SUMIFS('הכנסות'!$D$2:$D$401,'הכנסות'!$A$2:$A$401,">="&DATE($B$1,7,1),'הכנסות'!$A$2:$A$401,"<"&DATE($B$1,8,1)) | C10: =SUMIFS('הוצאות'!$H$2:$H$401,'הוצאות'!$A$2:$A$401,">="&DATE($B$1,7,1),'הוצאות'!$A$2:$A$401,"<"&DATE($B$1,8,1)) | D10: =B10-C10 | E10: =SUMIFS('הכנסות'!$E$2:$E$401,'הכנסות'!$A$2:$A$401,">="&DATE($B$1,7,1),'הכנסות'!$A$2:$A$401,"<"&DATE($B$1,8,1)) | F10: =SUMIFS('הוצאות'!$I$2:$I$401,'הוצאות'!$A$2:$A$401,">="&DATE($B$1,7,1),'הוצאות'!$A$2:$A$401,"<"&DATE($B$1,8,1)) | G10: =SUMIFS('הוצאות'!$K$2:$K$401,'הוצאות'!$A$2:$A$401,">="&DATE($B$1,7,1),'הוצאות'!$A$2:$A$401,"<"&DATE($B$1,8,1)) | H10: =COUNTIFS('הוצאות'!$M$2:$M$401,"חסר מספר הקצאה",'הוצאות'!$A$2:$A$401,">="&DATE($B$1,7,1),'הוצאות'!$A$2:$A$401,"<"&DATE($B$1,8,1))
A11: אוגוסט | B11: =SUMIFS('הכנסות'!$D$2:$D$401,'הכנסות'!$A$2:$A$401,">="&DATE($B$1,8,1),'הכנסות'!$A$2:$A$401,"<"&DATE($B$1,9,1)) | C11: =SUMIFS('הוצאות'!$H$2:$H$401,'הוצאות'!$A$2:$A$401,">="&DATE($B$1,8,1),'הוצאות'!$A$2:$A$401,"<"&DATE($B$1,9,1)) | D11: =B11-C11 | E11: =SUMIFS('הכנסות'!$E$2:$E$401,'הכנסות'!$A$2:$A$401,">="&DATE($B$1,8,1),'הכנסות'!$A$2:$A$401,"<"&DATE($B$1,9,1)) | F11: =SUMIFS('הוצאות'!$I$2:$I$401,'הוצאות'!$A$2:$A$401,">="&DATE($B$1,8,1),'הוצאות'!$A$2:$A$401,"<"&DATE($B$1,9,1)) | G11: =SUMIFS('הוצאות'!$K$2:$K$401,'הוצאות'!$A$2:$A$401,">="&DATE($B$1,8,1),'הוצאות'!$A$2:$A$401,"<"&DATE($B$1,9,1)) | H11: =COUNTIFS('הוצאות'!$M$2:$M$401,"חסר מספר הקצאה",'הוצאות'!$A$2:$A$401,">="&DATE($B$1,8,1),'הוצאות'!$A$2:$A$401,"<"&DATE($B$1,9,1))
A12: ספטמבר | B12: =SUMIFS('הכנסות'!$D$2:$D$401,'הכנסות'!$A$2:$A$401,">="&DATE($B$1,9,1),'הכנסות'!$A$2:$A$401,"<"&DATE($B$1,10,1)) | C12: =SUMIFS('הוצאות'!$H$2:$H$401,'הוצאות'!$A$2:$A$401,">="&DATE($B$1,9,1),'הוצאות'!$A$2:$A$401,"<"&DATE($B$1,10,1)) | D12: =B12-C12 | E12: =SUMIFS('הכנסות'!$E$2:$E$401,'הכנסות'!$A$2:$A$401,">="&DATE($B$1,9,1),'הכנסות'!$A$2:$A$401,"<"&DATE($B$1,10,1)) | F12: =SUMIFS('הוצאות'!$I$2:$I$401,'הוצאות'!$A$2:$A$401,">="&DATE($B$1,9,1),'הוצאות'!$A$2:$A$401,"<"&DATE($B$1,10,1)) | G12: =SUMIFS('הוצאות'!$K$2:$K$401,'הוצאות'!$A$2:$A$401,">="&DATE($B$1,9,1),'הוצאות'!$A$2:$A$401,"<"&DATE($B$1,10,1)) | H12: =COUNTIFS('הוצאות'!$M$2:$M$401,"חסר מספר הקצאה",'הוצאות'!$A$2:$A$401,">="&DATE($B$1,9,1),'הוצאות'!$A$2:$A$401,"<"&DATE($B$1,10,1))
A13: אוקטובר | B13: =SUMIFS('הכנסות'!$D$2:$D$401,'הכנסות'!$A$2:$A$401,">="&DATE($B$1,10,1),'הכנסות'!$A$2:$A$401,"<"&DATE($B$1,11,1)) | C13: =SUMIFS('הוצאות'!$H$2:$H$401,'הוצאות'!$A$2:$A$401,">="&DATE($B$1,10,1),'הוצאות'!$A$2:$A$401,"<"&DATE($B$1,11,1)) | D13: =B13-C13 | E13: =SUMIFS('הכנסות'!$E$2:$E$401,'הכנסות'!$A$2:$A$401,">="&DATE($B$1,10,1),'הכנסות'!$A$2:$A$401,"<"&DATE($B$1,11,1)) | F13: =SUMIFS('הוצאות'!$I$2:$I$401,'הוצאות'!$A$2:$A$401,">="&DATE($B$1,10,1),'הוצאות'!$A$2:$A$401,"<"&DATE($B$1,11,1)) | G13: =SUMIFS('הוצאות'!$K$2:$K$401,'הוצאות'!$A$2:$A$401,">="&DATE($B$1,10,1),'הוצאות'!$A$2:$A$401,"<"&DATE($B$1,11,1)) | H13: =COUNTIFS('הוצאות'!$M$2:$M$401,"חסר מספר הקצאה",'הוצאות'!$A$2:$A$401,">="&DATE($B$1,10,1),'הוצאות'!$A$2:$A$401,"<"&DATE($B$1,11,1))
A14: נובמבר | B14: =SUMIFS('הכנסות'!$D$2:$D$401,'הכנסות'!$A$2:$A$401,">="&DATE($B$1,11,1),'הכנסות'!$A$2:$A$401,"<"&DATE($B$1,12,1)) | C14: =SUMIFS('הוצאות'!$H$2:$H$401,'הוצאות'!$A$2:$A$401,">="&DATE($B$1,11,1),'הוצאות'!$A$2:$A$401,"<"&DATE($B$1,12,1)) | D14: =B14-C14 | E14: =SUMIFS('הכנסות'!$E$2:$E$401,'הכנסות'!$A$2:$A$401,">="&DATE($B$1,11,1),'הכנסות'!$A$2:$A$401,"<"&DATE($B$1,12,1)) | F14: =SUMIFS('הוצאות'!$I$2:$I$401,'הוצאות'!$A$2:$A$401,">="&DATE($B$1,11,1),'הוצאות'!$A$2:$A$401,"<"&DATE($B$1,12,1)) | G14: =SUMIFS('הוצאות'!$K$2:$K$401,'הוצאות'!$A$2:$A$401,">="&DATE($B$1,11,1),'הוצאות'!$A$2:$A$401,"<"&DATE($B$1,12,1)) | H14: =COUNTIFS('הוצאות'!$M$2:$M$401,"חסר מספר הקצאה",'הוצאות'!$A$2:$A$401,">="&DATE($B$1,11,1),'הוצאות'!$A$2:$A$401,"<"&DATE($B$1,12,1))
A15: דצמבר | B15: =SUMIFS('הכנסות'!$D$2:$D$401,'הכנסות'!$A$2:$A$401,">="&DATE($B$1,12,1),'הכנסות'!$A$2:$A$401,"<"&DATE($B$1,13,1)) | C15: =SUMIFS('הוצאות'!$H$2:$H$401,'הוצאות'!$A$2:$A$401,">="&DATE($B$1,12,1),'הוצאות'!$A$2:$A$401,"<"&DATE($B$1,13,1)) | D15: =B15-C15 | E15: =SUMIFS('הכנסות'!$E$2:$E$401,'הכנסות'!$A$2:$A$401,">="&DATE($B$1,12,1),'הכנסות'!$A$2:$A$401,"<"&DATE($B$1,13,1)) | F15: =SUMIFS('הוצאות'!$I$2:$I$401,'הוצאות'!$A$2:$A$401,">="&DATE($B$1,12,1),'הוצאות'!$A$2:$A$401,"<"&DATE($B$1,13,1)) | G15: =SUMIFS('הוצאות'!$K$2:$K$401,'הוצאות'!$A$2:$A$401,">="&DATE($B$1,12,1),'הוצאות'!$A$2:$A$401,"<"&DATE($B$1,13,1)) | H15: =COUNTIFS('הוצאות'!$M$2:$M$401,"חסר מספר הקצאה",'הוצאות'!$A$2:$A$401,">="&DATE($B$1,12,1),'הוצאות'!$A$2:$A$401,"<"&DATE($B$1,13,1))
A16: סה״כ שנתי | B16: =SUM(B4:B15) | C16: =SUM(C4:C15) | D16: =SUM(D4:D15) | E16: =SUM(E4:E15) | F16: =SUM(F4:F15) | G16: =SUM(G4:G15) | H16: =SUM(H4:H15)
A18: רוצים שהטבלה תתמלא לבד? OptiPay אוספת את החשבוניות מהמייל ומ-WhatsApp, מזהה את סוג המסמך ואת המע״מ ומייצאת הכל לאקסל. optipay.co.il

Sheet שיעורי הכרה
A1: קטגוריה | B1: מוכר במס הכנסה | C1: מע״מ לקיזוז | D1: הערה
A2: שכירות ותשתיות | B2: 1 | C2: 1 | D2: ארנונה משולמת בלי מע״מ
A3: ציוד משרדי | B3: 1 | C3: 1
A4: פרסום ושיווק | B4: 1 | C4: 1
A5: ייעוץ מקצועי (רו״ח, עו״ד) | B5: 1 | C5: 1
A6: תוכנות ומנויים | B6: 1 | C6: 1 | D6: שירות מחו״ל לא כולל מע״מ ישראלי
A7: מחשב וציוד קבוע | B7: 1 | C7: 1 | D7: במס הכנסה נרשם כרכוש קבוע ומוכר בפחת (מחשב: 33% בשנה)
A8: רכב | B8: 0.45 | C8: 0.66666667 | D8: לפחות 45% במס הכנסה. מע״מ: 2/3, או 1/4 כשהשימוש בעיקר פרטי. ברכישת רכב פרטי אין קיזוז
A9: טלפון נייד | B9: 1 | C9: 0.66666667 | D9: לא מוכר: הנמוך מבין 1,380 ש״ח בשנה למחצית ההוצאה. חשבו פעם בשנה והפחיתו ידנית
A10: כיבוד במשרד | B10: 0.8 | C10: 0.66666667 | D10: רק במקום העסק עצמו
A11: ארוחות ואירוח | B11: 0 | C11: 0 | D11: לא מוכר, למעט אירוח סביר של אורח מחו״ל
A12: מתנות ללקוחות | B12: 1 | C12: 0 | D12: עד 240 ש״ח לאדם בשנה, עם תיעוד מקבל המתנה
A13: ביגוד לעבודה | B13: 0.8 | C13: 0.8 | D13: 100% לבגד שאי אפשר ללבוש מחוץ לעבודה. ביגוד רגיל לא מוכר
A14: השתלמות מקצועית | B14: 1 | C14: 1 | D14: רק לשמירה על מקצוע קיים
A15: נסיעה לחו״ל | B15: 1 | C15: 0 | D15: לפי תקרות יומיות (2026: לינה 160 עד 365 דולר)
A16: אחר | B16: 1 | C16: 1 | D16: עדכנו לפי ההנחיה של רואה החשבון
A18: השיעורים נכונים לשנת המס 2026 לפי טבלת הוצאות מוכרות של OptiPay (optipay.co.il/blog/deductible-expenses-table). הם כלליים: במקרים גבוליים בדקו מול רואה החשבון. אפשר לשנות כל שיעור והטבלה תתעדכן.
